BEGIN:VCALENDAR
PRODID:-//github.com/rianjs/ical.net//NONSGML ical.net 4.0//EN
VERSION:2.0
BEGIN:VTIMEZONE
TZID:Pacific Standard Time
X-LIC-LOCATION:America/Los_Angeles
BEGIN:STANDARD
DTSTART:20241103T020000
RRULE:FREQ=YEARLY;BYDAY=1SU;BYMONTH=11
TZNAME:PST
TZOFFSETFROM:-0700
TZOFFSETTO:-0800
END:STANDARD
BEGIN:DAYLIGHT
DTSTART:20250309T020000
RRULE:FREQ=YEARLY;BYDAY=2SU;BYMONTH=3
TZNAME:PDT
TZOFFSETFROM:-0800
TZOFFSETTO:-0700
END:DAYLIGHT
END:VTIMEZONE
BEGIN:VEVENT
DTEND;TZID=Pacific Standard Time:20260826T130000
DTSTAMP:20260421T141146Z
DTSTART;TZID=Pacific Standard Time:20260826T113000
LOCATION:The Manzanita Place 840 Remor Street Redding\, CA 96002-0603 Unit
 ed States
ORGANIZER;CN=;SENT-BY="mailto:":
SEQUENCE:0
SUMMARY:NVPOA: Redding Luncheon
UID:c38421ff-df83-42b7-a096-82bd36387b6f
END:VEVENT
END:VCALENDAR
